BEGIN:VCALENDAR
VERSION:2.0
PRODID:-//Office of the Vice-Provost, Faculty &amp; Academic Life - ECPv6.15.20//NONSGML v1.0//EN
CALSCALE:GREGORIAN
METHOD:PUBLISH
X-ORIGINAL-URL:https://faculty.utoronto.ca
X-WR-CALDESC:Events for Office of the Vice-Provost, Faculty &amp; Academic Life
REFRESH-INTERVAL;VALUE=DURATION:PT1H
X-Robots-Tag:noindex
X-PUBLISHED-TTL:PT1H
BEGIN:VTIMEZONE
TZID:America/Toronto
BEGIN:DAYLIGHT
TZOFFSETFROM:-0500
TZOFFSETTO:-0400
TZNAME:EDT
DTSTART:20240310T070000
END:DAYLIGHT
BEGIN:STANDARD
TZOFFSETFROM:-0400
TZOFFSETTO:-0500
TZNAME:EST
DTSTART:20241103T060000
END:STANDARD
BEGIN:DAYLIGHT
TZOFFSETFROM:-0500
TZOFFSETTO:-0400
TZNAME:EDT
DTSTART:20250309T070000
END:DAYLIGHT
BEGIN:STANDARD
TZOFFSETFROM:-0400
TZOFFSETTO:-0500
TZNAME:EST
DTSTART:20251102T060000
END:STANDARD
BEGIN:DAYLIGHT
TZOFFSETFROM:-0500
TZOFFSETTO:-0400
TZNAME:EDT
DTSTART:20260308T070000
END:DAYLIGHT
BEGIN:STANDARD
TZOFFSETFROM:-0400
TZOFFSETTO:-0500
TZNAME:EST
DTSTART:20261101T060000
END:STANDARD
END:VTIMEZONE
BEGIN:VEVENT
DTSTART;TZID=America/Toronto:20250128T140000
DTEND;TZID=America/Toronto:20250128T160000
DTSTAMP:20260420T210437
CREATED:20240924T164122Z
LAST-MODIFIED:20250122T195010Z
UID:10000204-1738072800-1738080000@faculty.utoronto.ca
SUMMARY:Interim and Tenure Review – For Faculty (Online)
DESCRIPTION:Note: To register for VPFAL events\, you must log in with your UtorID and password. Clicking the ‘Going’ button below will bring you to the login screen.  \nThis session is for tenure stream faculty only. \nAchieving tenure is an important milestone in the life cycle of tenure-stream faculty. Understanding expectations and knowing what constitutes a complete and thorough file is critical. This session\, intended for pre-tenure faculty who are preparing for their interim or tenure reviews\, will cover the process and associated timelines for each review. \nPlease note: A registration confirmation email will be sent only to the person registering; however\, all registered attendees will receive the meeting link and a day or two prior to the session. The session will not be recorded and the slides will not be shared. We will provide attendees with the Interim and Tenure Review Primer.
URL:https://faculty.utoronto.ca/event/interim-and-tenure-review-for-faculty-online-2/
CATEGORIES:Faculty
END:VEVENT
END:VCALENDAR