BEGIN:VCALENDAR
VERSION:2.0
PRODID:-//Office of the Vice-Provost, Faculty &amp; Academic Life - ECPv6.15.20//NONSGML v1.0//EN
CALSCALE:GREGORIAN
METHOD:PUBLISH
X-WR-CALNAME:Office of the Vice-Provost, Faculty &amp; Academic Life
X-ORIGINAL-URL:https://faculty.utoronto.ca
X-WR-CALDESC:Events for Office of the Vice-Provost, Faculty &amp; Academic Life
REFRESH-INTERVAL;VALUE=DURATION:PT1H
X-Robots-Tag:noindex
X-PUBLISHED-TTL:PT1H
BEGIN:VTIMEZONE
TZID:America/Toronto
BEGIN:DAYLIGHT
TZOFFSETFROM:-0500
TZOFFSETTO:-0400
TZNAME:EDT
DTSTART:20240310T070000
END:DAYLIGHT
BEGIN:STANDARD
TZOFFSETFROM:-0400
TZOFFSETTO:-0500
TZNAME:EST
DTSTART:20241103T060000
END:STANDARD
BEGIN:DAYLIGHT
TZOFFSETFROM:-0500
TZOFFSETTO:-0400
TZNAME:EDT
DTSTART:20250309T070000
END:DAYLIGHT
BEGIN:STANDARD
TZOFFSETFROM:-0400
TZOFFSETTO:-0500
TZNAME:EST
DTSTART:20251102T060000
END:STANDARD
BEGIN:DAYLIGHT
TZOFFSETFROM:-0500
TZOFFSETTO:-0400
TZNAME:EDT
DTSTART:20260308T070000
END:DAYLIGHT
BEGIN:STANDARD
TZOFFSETFROM:-0400
TZOFFSETTO:-0500
TZNAME:EST
DTSTART:20261101T060000
END:STANDARD
END:VTIMEZONE
BEGIN:VEVENT
DTSTART;TZID=America/Toronto:20250224T130000
DTEND;TZID=America/Toronto:20250224T150000
DTSTAMP:20260421T085135
CREATED:20240705T133523Z
LAST-MODIFIED:20250131T203336Z
UID:10000197-1740402000-1740409200@faculty.utoronto.ca
SUMMARY:Hiring Teaching Assistants\, Course Instructors\, and Sessional Lecturers – for AAAs and Staff (Online)
DESCRIPTION:This session\, offered by Labour Relations\, will provide Chairs\, Directors\, Associate Chairs\, TA Coordinators\, and Administrative Staff responsible for the administration of CUPE 3902 appointments with the tools and information necessary for posting\, hiring\, and filling positions under the CUPE 3902 Unit 1 and Unit 3 Collective Agreements. Topics will include: subsequent appointment assignments\, job security commitments\, timelines\, job postings\, and navigating the hiring criteria. \n\n\n\n  \nPlease note: \n\nTo register for VPFAL events\, you must log in with your UTORid and password. Clicking the ‘Going’ button below will bring you to the login screen.\nA calendar invite will be sent to registrants a day or two before the session.\nThe session will not be recorded nor will the slides be shared.\n\n\n\n\nImage credit: Fahmihorizon (The Noun Project)
URL:https://faculty.utoronto.ca/event/hiring-teaching-assistants-course-instructors-and-sessional-lecturers-for-aaas-and-staff-online-2/
LOCATION:Calendar invite with Teams link will be sent a few days before the event.
CATEGORIES:Academic Administrators,Academic Administrators & Staff
ATTACH;FMTTYPE=image/png:https://faculty.utoronto.ca/wp-content/uploads/2022/08/noun-teaching-1428073-1.png
END:VEVENT
END:VCALENDAR