BEGIN:VCALENDAR
VERSION:2.0
PRODID:-//Office of the Vice-Provost, Faculty &amp; Academic Life - ECPv6.15.20//NONSGML v1.0//EN
CALSCALE:GREGORIAN
METHOD:PUBLISH
X-ORIGINAL-URL:https://faculty.utoronto.ca
X-WR-CALDESC:Events for Office of the Vice-Provost, Faculty &amp; Academic Life
REFRESH-INTERVAL;VALUE=DURATION:PT1H
X-Robots-Tag:noindex
X-PUBLISHED-TTL:PT1H
BEGIN:VTIMEZONE
TZID:America/Toronto
BEGIN:DAYLIGHT
TZOFFSETFROM:-0500
TZOFFSETTO:-0400
TZNAME:EDT
DTSTART:20230312T070000
END:DAYLIGHT
BEGIN:STANDARD
TZOFFSETFROM:-0400
TZOFFSETTO:-0500
TZNAME:EST
DTSTART:20231105T060000
END:STANDARD
BEGIN:DAYLIGHT
TZOFFSETFROM:-0500
TZOFFSETTO:-0400
TZNAME:EDT
DTSTART:20240310T070000
END:DAYLIGHT
BEGIN:STANDARD
TZOFFSETFROM:-0400
TZOFFSETTO:-0500
TZNAME:EST
DTSTART:20241103T060000
END:STANDARD
BEGIN:DAYLIGHT
TZOFFSETFROM:-0500
TZOFFSETTO:-0400
TZNAME:EDT
DTSTART:20250309T070000
END:DAYLIGHT
BEGIN:STANDARD
TZOFFSETFROM:-0400
TZOFFSETTO:-0500
TZNAME:EST
DTSTART:20251102T060000
END:STANDARD
END:VTIMEZONE
BEGIN:VEVENT
DTSTART;TZID=America/Toronto:20240416T130000
DTEND;TZID=America/Toronto:20240630T150000
DTSTAMP:20260420T223925
CREATED:20240118T144909Z
LAST-MODIFIED:20240214T174942Z
UID:10000189-1713272400-1719759600@faculty.utoronto.ca
SUMMARY:Retirement Information Pre-recorded Video Series
DESCRIPTION:The retirement information pre-recorded video series is for faculty and librarians enrolled in the University Pension Plan\, ages 54-72\, who are thinking about retirement\, who have entered phased retirement\, or who have submitted their Notice of Intention to retire. \nThese videos\, available on-demand from mid-April until end of June 2024\, are an opportunity to learn more about the financial elements relevant to this next stage in your career.  We will cover information on the University Pension Plan (UPP)\, the University’s Phased Retirement Program\, and retiree benefits. Access is limited – you must register here to be notified when the videos become available. \nAdditionally\, we will offer a live Retirement Information Q&A Session on April 30\, 2024\, 1-3pm via Teams. This will be a question & answer session only\, most helpful to those who have reviewed the videos prior to attending. In order to receive the Teams link for the Q&A session\, please register separately on the Retirement Information Q&A Session page. \n 
URL:https://faculty.utoronto.ca/event/retirement-information-session-online/
CATEGORIES:Faculty
END:VEVENT
BEGIN:VEVENT
DTSTART;TZID=America/Toronto:20240502T100000
DTEND;TZID=America/Toronto:20240502T113000
DTSTAMP:20260420T223925
CREATED:20230915T094234Z
LAST-MODIFIED:20231113T130914Z
UID:10000181-1714644000-1714649400@faculty.utoronto.ca
SUMMARY:Hosting International Collaborators - for All Faculties (Online\, May 2 session)
DESCRIPTION:This session is open to academic administrators\, faculty\, principal investigators\, and staff of all Faculties. \nSession Leaders: Hisani Kreiser\, Senior Lead\, Academic Immigration & Recruitment and Sophia Martins\, Recruitment and Immigration Advisor with support from Olumide Bolu\, Teresa Levitt\, and Carolina Moreno do Nascimento Alme\, Employment & Immigration Consultants \nHosting international colleagues\, researchers\, expert knowledge holders\, students or visitors to your department\, lab\, or office requires advance planning and must include immigration considerations. There can be a variety of negative repercussions if there are errors or omissions in the process. This session will guide participants on where to seek assistance. We will provide an overview of the Canadian immigration system\, offer information on ways to invite and host international collaborators\, and answer general questions about immigration processes and options. \nPlease note: A registration confirmation email will be sent only to the person registering; however\, all registered attendees will receive the meeting link and a day or two prior to the session. The session will not be recorded and the slides will not be shared.
URL:https://faculty.utoronto.ca/event/hosting-international-collaborators-for-all-faculties-online-may-2-session/
CATEGORIES:Academic Administrators,Faculty,Staff
END:VEVENT
END:VCALENDAR