BEGIN:VCALENDAR
VERSION:2.0
PRODID:-//Office of the Vice-Provost, Faculty &amp; Academic Life - ECPv6.15.20//NONSGML v1.0//EN
CALSCALE:GREGORIAN
METHOD:PUBLISH
X-ORIGINAL-URL:https://faculty.utoronto.ca
X-WR-CALDESC:Events for Office of the Vice-Provost, Faculty &amp; Academic Life
REFRESH-INTERVAL;VALUE=DURATION:PT1H
X-Robots-Tag:noindex
X-PUBLISHED-TTL:PT1H
BEGIN:VTIMEZONE
TZID:America/Toronto
BEGIN:DAYLIGHT
TZOFFSETFROM:-0500
TZOFFSETTO:-0400
TZNAME:EDT
DTSTART:20230312T070000
END:DAYLIGHT
BEGIN:STANDARD
TZOFFSETFROM:-0400
TZOFFSETTO:-0500
TZNAME:EST
DTSTART:20231105T060000
END:STANDARD
BEGIN:DAYLIGHT
TZOFFSETFROM:-0500
TZOFFSETTO:-0400
TZNAME:EDT
DTSTART:20240310T070000
END:DAYLIGHT
BEGIN:STANDARD
TZOFFSETFROM:-0400
TZOFFSETTO:-0500
TZNAME:EST
DTSTART:20241103T060000
END:STANDARD
BEGIN:DAYLIGHT
TZOFFSETFROM:-0500
TZOFFSETTO:-0400
TZNAME:EDT
DTSTART:20250309T070000
END:DAYLIGHT
BEGIN:STANDARD
TZOFFSETFROM:-0400
TZOFFSETTO:-0500
TZNAME:EST
DTSTART:20251102T060000
END:STANDARD
END:VTIMEZONE
BEGIN:VEVENT
DTSTART;TZID=America/Toronto:20241104T130000
DTEND;TZID=America/Toronto:20241104T150000
DTSTAMP:20260421T011022
CREATED:20240705T134028Z
LAST-MODIFIED:20240705T134051Z
UID:10000199-1730725200-1730732400@faculty.utoronto.ca
SUMMARY:Assessment of Teaching in Tenure\, Continuing Status\, and Promotion Reviews for Chairs\, Directors\, and Members of Teaching Evaluation Committees (Online)
DESCRIPTION:The evaluation of teaching is a critical element in tenure\, continuing status\, and promotion reviews. Led by the Centre for Teaching Support & Innovation (CTSI)\, this is a substantive session on the evaluation of teaching effectiveness that will help those engaged in these reviews to conduct their work in a fair and robust way. \nPlease note: A registration confirmation email will be sent only to the person registering; however\, all registered attendees will receive the meeting link and a day or two prior to the session. The session will not be recorded and the slides will not be shared. \nImage credit: Image# 2009207 (The Noun Project)
URL:https://faculty.utoronto.ca/event/assessment-of-teaching-in-tenure-continuing-status-and-promotion-reviews-for-chairs-directors-and-members-of-teaching-evaluation-committees-online-3/
LOCATION:Calendar invite with Teams link will be sent a few days before the event.
CATEGORIES:Academic Administrators,Faculty
ATTACH;FMTTYPE=image/png:https://faculty.utoronto.ca/wp-content/uploads/2022/08/noun-assessment-4841572-1-e1661511007171.png
END:VEVENT
BEGIN:VEVENT
DTSTART;TZID=America/Toronto:20241128T130000
DTEND;TZID=America/Toronto:20241128T150000
DTSTAMP:20260421T011022
CREATED:20240924T135523Z
LAST-MODIFIED:20250122T195115Z
UID:10000201-1732798800-1732806000@faculty.utoronto.ca
SUMMARY:Hosting International Collaborators - for Multi-Department Faculties (Online\, November 28\, 2024\, 1-3pm)
DESCRIPTION:Note: To register for VPFAL events\, you must log in with your UtorID and password. Clicking the ‘Going’ button below will bring you to the login screen.  \nThis session is open to academic administrators\, faculty\, principal investigators\, and staff of Multi-Department Faculties. \nSession Leaders: Hisani Kreiser\, Senior Lead\, Academic Immigration & Recruitment and Sophia Martins\, Recruitment and Immigration Advisor with support from Olumide Bolu\, Teresa Levitt\, and Carolina Moreno do Nascimento Alme\, Employment & Immigration Consultants \nHosting international colleagues\, researchers\, expert knowledge holders\, students or visitors to your department\, lab\, or office requires advance planning and must include immigration considerations. There can be a variety of negative repercussions if there are errors or omissions in the process. This session will guide participants on where to seek assistance. We will provide an overview of the Canadian immigration system\, offer information on ways to invite and host international collaborators\, and answer general questions about immigration processes and options. \nPlease note: A registration confirmation email will be sent only to the person registering; however\, all registered attendees will receive the meeting link and a day or two prior to the session. The session will not be recorded and the slides will not be shared.
URL:https://faculty.utoronto.ca/event/hosting-international-collaborators-for-multi-department-faculties-online-november-28-2024-1-3pm/
CATEGORIES:Academic Administrators,Faculty,Staff
END:VEVENT
END:VCALENDAR