BEGIN:VCALENDAR
VERSION:2.0
PRODID:-//Office of the Vice-Provost, Faculty &amp; Academic Life - ECPv6.15.20//NONSGML v1.0//EN
CALSCALE:GREGORIAN
METHOD:PUBLISH
X-ORIGINAL-URL:https://faculty.utoronto.ca
X-WR-CALDESC:Events for Office of the Vice-Provost, Faculty &amp; Academic Life
REFRESH-INTERVAL;VALUE=DURATION:PT1H
X-Robots-Tag:noindex
X-PUBLISHED-TTL:PT1H
BEGIN:VTIMEZONE
TZID:America/Toronto
BEGIN:DAYLIGHT
TZOFFSETFROM:-0500
TZOFFSETTO:-0400
TZNAME:EDT
DTSTART:20210314T070000
END:DAYLIGHT
BEGIN:STANDARD
TZOFFSETFROM:-0400
TZOFFSETTO:-0500
TZNAME:EST
DTSTART:20211107T060000
END:STANDARD
BEGIN:DAYLIGHT
TZOFFSETFROM:-0500
TZOFFSETTO:-0400
TZNAME:EDT
DTSTART:20220313T070000
END:DAYLIGHT
BEGIN:STANDARD
TZOFFSETFROM:-0400
TZOFFSETTO:-0500
TZNAME:EST
DTSTART:20221106T060000
END:STANDARD
BEGIN:DAYLIGHT
TZOFFSETFROM:-0500
TZOFFSETTO:-0400
TZNAME:EDT
DTSTART:20230312T070000
END:DAYLIGHT
BEGIN:STANDARD
TZOFFSETFROM:-0400
TZOFFSETTO:-0500
TZNAME:EST
DTSTART:20231105T060000
END:STANDARD
BEGIN:DAYLIGHT
TZOFFSETFROM:-0500
TZOFFSETTO:-0400
TZNAME:EDT
DTSTART:20240310T070000
END:DAYLIGHT
BEGIN:STANDARD
TZOFFSETFROM:-0400
TZOFFSETTO:-0500
TZNAME:EST
DTSTART:20241103T060000
END:STANDARD
END:VTIMEZONE
BEGIN:VEVENT
DTSTART;VALUE=DATE:20220701
DTEND;VALUE=DATE:20230702
DTSTAMP:20260420T194519
CREATED:20220826T101832Z
LAST-MODIFIED:20220826T101832Z
UID:10000057-1656633600-1688255999@faculty.utoronto.ca
SUMMARY:National Center for Faculty Development & Diversity – for Faculty (On-Demand Webinars and Resources)
DESCRIPTION:The University of Toronto continues to maintain an institutional registration with the National Center for Faculty Development & Diversity (NCFDD)\, which offers “independent professional development\, training\, and mentoring community for faculty members\, postdocs\, and graduate students.” Faculty\, graduate students\, and staff may activate a free sub-account. \nVisit the Faculty Success Program & Post-Tenure Pathfinders Program page for more details about these two intensive online programs offered by NCFDD. \nImage credit: Ivan Colic\, ZA In the Hipster Elements Collection
URL:https://faculty.utoronto.ca/event/20393/
CATEGORIES:Faculty
ATTACH;FMTTYPE=image/png:https://faculty.utoronto.ca/wp-content/uploads/2020/12/noun_Globe_161779-1-e1661509191780.png
END:VEVENT
BEGIN:VEVENT
DTSTART;TZID=America/Toronto:20230711T100000
DTEND;TZID=America/Toronto:20230711T120000
DTSTAMP:20260420T194519
CREATED:20220922T134103Z
LAST-MODIFIED:20230424T165320Z
UID:10000067-1689069600-1689076800@faculty.utoronto.ca
SUMMARY:Recruitment & Hiring – for AAAs and Staff (Online)
DESCRIPTION:A unit’s ability to hire the best possible candidates for academic positions depends on effective management of the recruitment process. This session\, for Chairs\, Directors\, Single Department Faculty Deans and supporting staff\, is intended to provide detailed information about the following topics that are critical to the success of this process: \n\nRecruitment plan\nJob ads\nImmigration considerations\nAppointment files\nSearch reports\n\nWe recommend that AAAs register with the staff member who supports recruitment and hiring in their unit.  \nPlease note: The registration confirmation email will be sent only to the person registering; however\, all registered attendees will receive the Zoom link and all relevant materials a day or two prior to the session. The session will not be recorded. \n\n\n\nImage credit: Ifan Kurniawan (The Noun Project) \n  \n 
URL:https://faculty.utoronto.ca/event/recruitment-hiring-for-aaas-and-staff-online/
LOCATION:Calendar invite with Teams link will be sent a few days before the event.
CATEGORIES:Academic Administrators,Academic Administrators & Staff
ATTACH;FMTTYPE=image/png:https://faculty.utoronto.ca/wp-content/uploads/2022/09/noun-hiring-4870256-1.png
END:VEVENT
END:VCALENDAR