BEGIN:VCALENDAR
VERSION:2.0
PRODID:-//Office of the Vice-Provost, Faculty &amp; Academic Life - ECPv6.15.20//NONSGML v1.0//EN
CALSCALE:GREGORIAN
METHOD:PUBLISH
X-ORIGINAL-URL:https://faculty.utoronto.ca
X-WR-CALDESC:Events for Office of the Vice-Provost, Faculty &amp; Academic Life
REFRESH-INTERVAL;VALUE=DURATION:PT1H
X-Robots-Tag:noindex
X-PUBLISHED-TTL:PT1H
BEGIN:VTIMEZONE
TZID:America/Toronto
BEGIN:DAYLIGHT
TZOFFSETFROM:-0500
TZOFFSETTO:-0400
TZNAME:EDT
DTSTART:20240310T070000
END:DAYLIGHT
BEGIN:STANDARD
TZOFFSETFROM:-0400
TZOFFSETTO:-0500
TZNAME:EST
DTSTART:20241103T060000
END:STANDARD
BEGIN:DAYLIGHT
TZOFFSETFROM:-0500
TZOFFSETTO:-0400
TZNAME:EDT
DTSTART:20250309T070000
END:DAYLIGHT
BEGIN:STANDARD
TZOFFSETFROM:-0400
TZOFFSETTO:-0500
TZNAME:EST
DTSTART:20251102T060000
END:STANDARD
BEGIN:DAYLIGHT
TZOFFSETFROM:-0500
TZOFFSETTO:-0400
TZNAME:EDT
DTSTART:20260308T070000
END:DAYLIGHT
BEGIN:STANDARD
TZOFFSETFROM:-0400
TZOFFSETTO:-0500
TZNAME:EST
DTSTART:20261101T060000
END:STANDARD
END:VTIMEZONE
BEGIN:VEVENT
DTSTART;TZID=America/Toronto:20250120T130000
DTEND;TZID=America/Toronto:20250120T150000
DTSTAMP:20260421T085830
CREATED:20240705T131633Z
LAST-MODIFIED:20250122T195052Z
UID:10000194-1737378000-1737385200@faculty.utoronto.ca
SUMMARY:Advancement Process for Sessional Lecturers – for AAAs and Staff (Online)
DESCRIPTION:Note: To register for VPFAL events\, you must log in with your UtorID and password. Clicking the ‘Going’ button below will bring you to the login screen.  \nThis session\, offered by Labour Relations\, will provide Chairs\, Directors\, Associate Chairs Vice/Associate Deans\, and Administrative Staff responsible for the administration of CUPE 3902 Unit 3 appointments with the necessary information to manage and conduct the processes for advancement to Sessional Lecturer II\, and advancement to Sessional Lecturer III. \nPlease note: A registration confirmation email will be sent only to the person registering; however\, all registered attendees will receive the Zoom link and all relevant materials a day or two prior to the session. \nImage credit: Fahmihorizon (The Noun Project)
URL:https://faculty.utoronto.ca/event/advancement-process-for-sessional-lecturers-for-aaas-and-staff-online-4/
LOCATION:Calendar invite with Teams link will be sent a few days before the event.
CATEGORIES:Academic Administrators,Academic Administrators & Staff
ATTACH;FMTTYPE=image/png:https://faculty.utoronto.ca/wp-content/uploads/2022/08/noun-teaching-1428073-1.png
END:VEVENT
BEGIN:VEVENT
DTSTART;TZID=America/Toronto:20250127T130000
DTEND;TZID=America/Toronto:20250127T150000
DTSTAMP:20260421T085830
CREATED:20240924T140352Z
LAST-MODIFIED:20250122T195031Z
UID:10000202-1737982800-1737990000@faculty.utoronto.ca
SUMMARY:Hosting International Collaborators - for Single Department Faculties (Online\, January 27\, 2025\, 1-3pm)
DESCRIPTION:Note: To register for VPFAL events\, you must log in with your UtorID and password. Clicking the ‘Going’ button below will bring you to the login screen.  \nThis session is open to academic administrators\, faculty\, principal investigators\, and staff of Single Department Faculties. \nSession Leaders: Hisani Kreiser\, Senior Lead\, Academic Immigration & Recruitment and Sophia Martins\, Recruitment and Immigration Advisor with support from Olumide Bolu\, Teresa Levitt\, and Carolina Moreno do Nascimento Alme\, Employment & Immigration Consultants \nHosting international colleagues\, researchers\, expert knowledge holders\, students or visitors to your department\, lab\, or office requires advance planning and must include immigration considerations. There can be a variety of negative repercussions if there are errors or omissions in the process. This session will guide participants on where to seek assistance. We will provide an overview of the Canadian immigration system\, offer information on ways to invite and host international collaborators\, and answer general questions about immigration processes and options. \nPlease note: A registration confirmation email will be sent only to the person registering; however\, all registered attendees will receive the meeting link and a day or two prior to the session. The session will not be recorded and the slides will not be shared.
URL:https://faculty.utoronto.ca/event/hosting-international-collaborators-for-single-department-faculties-online-january-27-2025-1-3pm/
CATEGORIES:Academic Administrators,Faculty,Staff
END:VEVENT
BEGIN:VEVENT
DTSTART;TZID=America/Toronto:20250128T140000
DTEND;TZID=America/Toronto:20250128T160000
DTSTAMP:20260421T085830
CREATED:20240924T164122Z
LAST-MODIFIED:20250122T195010Z
UID:10000204-1738072800-1738080000@faculty.utoronto.ca
SUMMARY:Interim and Tenure Review – For Faculty (Online)
DESCRIPTION:Note: To register for VPFAL events\, you must log in with your UtorID and password. Clicking the ‘Going’ button below will bring you to the login screen.  \nThis session is for tenure stream faculty only. \nAchieving tenure is an important milestone in the life cycle of tenure-stream faculty. Understanding expectations and knowing what constitutes a complete and thorough file is critical. This session\, intended for pre-tenure faculty who are preparing for their interim or tenure reviews\, will cover the process and associated timelines for each review. \nPlease note: A registration confirmation email will be sent only to the person registering; however\, all registered attendees will receive the meeting link and a day or two prior to the session. The session will not be recorded and the slides will not be shared. We will provide attendees with the Interim and Tenure Review Primer.
URL:https://faculty.utoronto.ca/event/interim-and-tenure-review-for-faculty-online-2/
CATEGORIES:Faculty
END:VEVENT
BEGIN:VEVENT
DTSTART;TZID=America/Toronto:20250129T140000
DTEND;TZID=America/Toronto:20250129T160000
DTSTAMP:20260421T085830
CREATED:20240924T164546Z
LAST-MODIFIED:20250129T210436Z
UID:10000205-1738159200-1738166400@faculty.utoronto.ca
SUMMARY:Probationary and Continuing Status Review – For Faculty (Online)
DESCRIPTION:This session is only for teaching stream faculty in continuing appointments who are prior to their continuing status review. \nAchieving continuing status is an important milestone in the life cycle of teaching-stream faculty. Understanding expectations and knowing what constitutes a complete and thorough file is critical. This session\, intended for pre-continuing status faculty who are preparing for their probationary or continuing status reviews\, will cover the process and associated timelines for each review. \n  \nPlease note: \n\nTo register for VPFAL events\, you must log in with your UTORid and password. Clicking the ‘Going’ button below will bring you to the login screen.\nClicking ‘Add to Calendar’ does not complete your registration. To register\, click the ‘Going’ button and complete the registration form. If you do not receive an automated confirmation\, your registration is not complete.\nA calendar invite will be sent to registrants a day or two before the session.\nThe session will not be recorded nor will the slides be shared. We will provide attendees with the Probationary & Continuing Status Review Primer.
URL:https://faculty.utoronto.ca/event/probationary-and-continuing-status-review-for-faculty-online-2/
CATEGORIES:Faculty
END:VEVENT
BEGIN:VEVENT
DTSTART;TZID=America/Toronto:20250130T100000
DTEND;TZID=America/Toronto:20250130T120000
DTSTAMP:20260421T085830
CREATED:20240705T133050Z
LAST-MODIFIED:20250131T203357Z
UID:10000195-1738231200-1738238400@faculty.utoronto.ca
SUMMARY:Managing Teaching Assistants and Sessional Lecturers – for AAAs and Staff (Online)
DESCRIPTION:This session\, offered by Labour Relations will provide Chairs\, Directors\, Associate Chairs\, Vice/Associate Deans\, TA Coordinators\, and Administrative Staff responsible for the administration of CUPE 3902 appointments with the tools and information necessary for managing employees under the CUPE 3902 Unit 1 and Unit 3 Collective Agreements. Topics will include: performance management\, accommodation\, workload\, leaves\, and all other relevant processes under the Collective Agreements for the duration of an employee’s contract. \nPlease note: \n\nTo register for VPFAL events\, you must log in with your UTORid and password. Clicking the ‘Going’ button below will bring you to the login screen.\nA calendar invite will be sent to registrants a day or two before the session.\nThe session will not be recorded nor will the slides be shared. \n\n\n\n\n\n\nImage credit: Fahmihorizon (The Noun Project)
URL:https://faculty.utoronto.ca/event/managing-teaching-assistants-and-sessional-lecturers-for-aaas-and-staff-online-4/
LOCATION:Calendar invite with Teams link will be sent a few days before the event.
CATEGORIES:Academic Administrators,Academic Administrators & Staff
ATTACH;FMTTYPE=image/png:https://faculty.utoronto.ca/wp-content/uploads/2022/08/noun-teaching-1428073-1.png
END:VEVENT
END:VCALENDAR